BEGIN:VCALENDAR
VERSION:2.0
PRODID:-//Two Shows - ECPv6.0.11//NONSGML v1.0//EN
CALSCALE:GREGORIAN
METHOD:PUBLISH
X-ORIGINAL-URL:https://twoshows.fun
X-WR-CALDESC:Eventos para Two Shows
REFRESH-INTERVAL;VALUE=DURATION:PT1H
X-Robots-Tag:noindex
X-PUBLISHED-TTL:PT1H
BEGIN:VTIMEZONE
TZID:America/Chicago
BEGIN:DAYLIGHT
TZOFFSETFROM:-0600
TZOFFSETTO:-0500
TZNAME:CDT
DTSTART:20240310T080000
END:DAYLIGHT
BEGIN:STANDARD
TZOFFSETFROM:-0500
TZOFFSETTO:-0600
TZNAME:CST
DTSTART:20241103T070000
END:STANDARD
END:VTIMEZONE
BEGIN:VEVENT
DTSTART;TZID=America/Chicago:20241115T203000
DTEND;TZID=America/Chicago:20241115T233000
DTSTAMP:20260422T225613
CREATED:20240411T142147Z
LAST-MODIFIED:20240927T233833Z
UID:224800-1731702600-1731713400@twoshows.fun
SUMMARY:Kim Loaiza
DESCRIPTION:LOCALIDADES\n			\n				\n				\n				\n				\n				\n			\n			\n				\n				\n				\n				\n				\n				\n				\n				\n				\n				UBICACIONES\n			\n				\n				\n				\n				\n				\n			\n			\n				\n				\n				\n				\n			\n				\n				\n			\n				\n				\n				\n				\n				\n				\n				\n				\n				\n				\n				\n				\n				\n				COMPRAR
URL:https://twoshows.fun/index.php/event/kim24/
LOCATION:Gimnasio Nacional José Adolfo Pineda\, 6-10 Calle Pte\, San Salvador\, El Salvador
ATTACH;FMTTYPE=image/jpeg:https://twoshows.fun/wp-content/uploads/2024/04/kimladespedida.jpg
END:VEVENT
BEGIN:VEVENT
DTSTART;TZID=America/Chicago:20241116T203000
DTEND;TZID=America/Chicago:20241116T233000
DTSTAMP:20260422T225613
CREATED:20240927T234639Z
LAST-MODIFIED:20240927T235608Z
UID:224846-1731789000-1731799800@twoshows.fun
SUMMARY:Reik
DESCRIPTION:LOCALIDADES\n			\n				\n				\n				\n				\n				\n			\n			\n				\n				\n				\n				\n				\n				\n				\n				\n				\n				UBICACIONES\n			\n				\n				\n				\n				\n				\n			\n			\n				\n				\n				\n				\n			\n				\n				\n			\n				\n				\n				\n				\n				\n				\n				\n				\n				\n				\n				\n				\n				\n				COMPRAR
URL:https://twoshows.fun/index.php/event/reik24/
LOCATION:Complejo Cuscatlán\, MQJH+JJV\, Blvr. Los Proceres\, San Salvador\, San Salvador\, San Salvador
ATTACH;FMTTYPE=image/jpeg:https://twoshows.fun/wp-content/uploads/2024/09/reik1.jpg
END:VEVENT
END:VCALENDAR