BEGIN:VCALENDAR
VERSION:2.0
PRODID:-//Two Shows - ECPv6.0.11//NONSGML v1.0//EN
CALSCALE:GREGORIAN
METHOD:PUBLISH
X-WR-CALNAME:Two Shows
X-ORIGINAL-URL:https://twoshows.fun
X-WR-CALDESC:Eventos para Two Shows
REFRESH-INTERVAL;VALUE=DURATION:PT1H
X-Robots-Tag:noindex
X-PUBLISHED-TTL:PT1H
BEGIN:VTIMEZONE
TZID:America/Chicago
BEGIN:DAYLIGHT
TZOFFSETFROM:-0600
TZOFFSETTO:-0500
TZNAME:CDT
DTSTART:20240310T080000
END:DAYLIGHT
BEGIN:STANDARD
TZOFFSETFROM:-0500
TZOFFSETTO:-0600
TZNAME:CST
DTSTART:20241103T070000
END:STANDARD
END:VTIMEZONE
BEGIN:VEVENT
DTSTART;TZID=America/Chicago:20241026T203000
DTEND;TZID=America/Chicago:20241026T233000
DTSTAMP:20260423T001646
CREATED:20240411T140917Z
LAST-MODIFIED:20240411T143101Z
UID:224785-1729974600-1729985400@twoshows.fun
SUMMARY:Morat
DESCRIPTION:LOCALIDADES\n			\n				\n				\n				\n				\n				\n			\n			\n				\n				\n				\n				\n				\n				\n				\n				\n				\n				UBICACIONES\n			\n				\n				\n				\n				\n				\n			\n			\n				\n				\n				\n				\n			\n				\n				\n			\n				\n				\n				\n				\n				\n				\n				\n				\n				\n				\n				\n				\n				\n				COMPRAR
URL:https://twoshows.fun/index.php/event/morat24/
LOCATION:Estadio Cuscatlán\, Calle Antigua a Huizucar\, San Salvador\, El Salvador
ATTACH;FMTTYPE=image/jpeg:https://twoshows.fun/wp-content/uploads/2024/04/morat_portada.jpg
END:VEVENT
END:VCALENDAR