BEGIN:VCALENDAR
VERSION:2.0
PRODID:-//Two Shows - ECPv6.0.11//NONSGML v1.0//EN
CALSCALE:GREGORIAN
METHOD:PUBLISH
X-ORIGINAL-URL:https://twoshows.fun
X-WR-CALDESC:Eventos para Two Shows
REFRESH-INTERVAL;VALUE=DURATION:PT1H
X-Robots-Tag:noindex
X-PUBLISHED-TTL:PT1H
BEGIN:VTIMEZONE
TZID:America/Chicago
BEGIN:DAYLIGHT
TZOFFSETFROM:-0600
TZOFFSETTO:-0500
TZNAME:CDT
DTSTART:20230312T080000
END:DAYLIGHT
BEGIN:STANDARD
TZOFFSETFROM:-0500
TZOFFSETTO:-0600
TZNAME:CST
DTSTART:20231105T070000
END:STANDARD
END:VTIMEZONE
BEGIN:VEVENT
DTSTART;TZID=America/Chicago:20230811T203000
DTEND;TZID=America/Chicago:20230811T233000
DTSTAMP:20260424T080708
CREATED:20230626T023514Z
LAST-MODIFIED:20230626T023900Z
UID:224652-1691785800-1691796600@twoshows.fun
SUMMARY:Matute
DESCRIPTION:LOCALIDADES\n			\n				\n				\n				\n				\n				\n			\n			\n				\n				\n				\n				\n				\n				\n				\n				\n				\n				UBICACIONES
URL:https://twoshows.fun/index.php/event/matute2023/
LOCATION:Salamanca Eventos\, Salamanca Eventos y Experiencias\, Carretera Huizucar\, Nuevo Cuscatlan\, Nuevo Cuscatlán\, El Salvador\, 1513\, Nuevo Cuscatlán\, La libertad\, 1513
ATTACH;FMTTYPE=image/jpeg:https://twoshows.fun/wp-content/uploads/2023/06/twoshowsproducciones_355099780_655595179945514_1449778954368724311_n.jpg
END:VEVENT
END:VCALENDAR