BEGIN:VCALENDAR
VERSION:2.0
PRODID:-//Two Shows - ECPv6.0.11//NONSGML v1.0//EN
CALSCALE:GREGORIAN
METHOD:PUBLISH
X-ORIGINAL-URL:https://twoshows.fun
X-WR-CALDESC:Eventos para Two Shows
REFRESH-INTERVAL;VALUE=DURATION:PT1H
X-Robots-Tag:noindex
X-PUBLISHED-TTL:PT1H
BEGIN:VTIMEZONE
TZID:America/Chicago
BEGIN:DAYLIGHT
TZOFFSETFROM:-0600
TZOFFSETTO:-0500
TZNAME:CDT
DTSTART:20250309T080000
END:DAYLIGHT
BEGIN:STANDARD
TZOFFSETFROM:-0500
TZOFFSETTO:-0600
TZNAME:CST
DTSTART:20251102T070000
END:STANDARD
BEGIN:DAYLIGHT
TZOFFSETFROM:-0600
TZOFFSETTO:-0500
TZNAME:CDT
DTSTART:20260308T080000
END:DAYLIGHT
BEGIN:STANDARD
TZOFFSETFROM:-0500
TZOFFSETTO:-0600
TZNAME:CST
DTSTART:20261101T070000
END:STANDARD
END:VTIMEZONE
BEGIN:VEVENT
DTSTART;TZID=America/Chicago:20250815T203000
DTEND;TZID=America/Chicago:20250815T233000
DTSTAMP:20260422T172410
CREATED:20250611T035919Z
LAST-MODIFIED:20250611T040838Z
UID:224953-1755289800-1755300600@twoshows.fun
SUMMARY:Rels B
DESCRIPTION:LOCALIDADES\n			\n				\n				\n				\n				\n				\n			\n			\n				\n				\n				\n				\n				\n				\n				\n				\n				\n				UBICACIONES\n			\n				\n				\n				\n				\n				\n			\n			\n				\n				\n				\n				\n			\n				\n				\n			\n				\n				\n				\n				\n				\n				\n				\n				\n				\n				\n				\n				\n				\n				COMPRAR
URL:https://twoshows.fun/index.php/event/relsb/
LOCATION:Complejo Cuscatlán\, MQJH+JJV\, Blvr. Los Proceres\, San Salvador\, San Salvador\, San Salvador
ATTACH;FMTTYPE=image/jpeg:https://twoshows.fun/wp-content/uploads/2025/06/reels-b-portada.jpg
END:VEVENT
BEGIN:VEVENT
DTSTART;TZID=America/Chicago:20251017T203000
DTEND;TZID=America/Chicago:20251017T233000
DTSTAMP:20260422T172410
CREATED:20250422T051541Z
LAST-MODIFIED:20250611T035651Z
UID:224935-1760733000-1760743800@twoshows.fun
SUMMARY:Juanes
DESCRIPTION:LOCALIDADES\n			\n				\n				\n				\n				\n				\n			\n			\n				\n				\n				\n				\n				\n				\n				\n				\n				\n				UBICACIONES\n			\n				\n				\n				\n				\n				\n			\n			\n				\n				\n				\n				\n			\n				\n				\n			\n				\n				\n				\n				\n				\n				\n				\n				\n				\n				\n				\n				\n				\n				COMPRAR
URL:https://twoshows.fun/index.php/event/juanes/
LOCATION:Complejo Cuscatlán\, MQJH+JJV\, Blvr. Los Proceres\, San Salvador\, San Salvador\, San Salvador
ATTACH;FMTTYPE=image/jpeg:https://twoshows.fun/wp-content/uploads/2025/04/juanes25.jpg
END:VEVENT
BEGIN:VEVENT
DTSTART;TZID=America/Chicago:20251120T203000
DTEND;TZID=America/Chicago:20251120T233000
DTSTAMP:20260422T172410
CREATED:20250611T040534Z
LAST-MODIFIED:20250611T040736Z
UID:224964-1763670600-1763681400@twoshows.fun
SUMMARY:Ana Gabriel
DESCRIPTION:LOCALIDADES\n			\n				\n				\n				\n				\n				\n			\n			\n				\n				\n				\n				\n				\n				\n				\n				\n				\n				UBICACIONES\n			\n				\n				\n				\n				\n				\n			\n			\n				\n				\n				\n				\n			\n				\n				\n			\n				\n				\n				\n				\n				\n				\n				\n				\n				\n				\n				\n				\n				\n				COMPRAR
URL:https://twoshows.fun/index.php/event/anagabriel/
LOCATION:Gimnasio Nacional José Adolfo Pineda\, 6-10 Calle Pte\, San Salvador\, El Salvador
ATTACH;FMTTYPE=image/jpeg:https://twoshows.fun/wp-content/uploads/2025/06/anagabriel1.jpg
END:VEVENT
BEGIN:VEVENT
DTSTART;TZID=America/Chicago:20251205T203000
DTEND;TZID=America/Chicago:20251205T233000
DTSTAMP:20260422T172410
CREATED:20250915T024348Z
LAST-MODIFIED:20250915T024832Z
UID:224991-1764966600-1764977400@twoshows.fun
SUMMARY:Manuel Turizo
DESCRIPTION:LOCALIDADES\n			\n				\n				\n				\n				\n				\n			\n			\n				\n				\n				\n				\n				\n				\n				\n				\n				\n				UBICACIONES\n			\n				\n				\n				\n				\n				\n			\n			\n				\n				\n				\n				\n			\n				\n				\n			\n				\n				\n				\n				\n				\n				\n				\n				\n				\n				\n				\n				\n				\n				COMPRAR
URL:https://twoshows.fun/index.php/event/manuelturizo25/
LOCATION:Complejo Cuscatlán\, MQJH+JJV\, Blvr. Los Proceres\, San Salvador\, San Salvador\, San Salvador
ATTACH;FMTTYPE=image/jpeg:https://twoshows.fun/wp-content/uploads/2025/09/manuelturizo1.jpg
END:VEVENT
BEGIN:VEVENT
DTSTART;TZID=America/Chicago:20260207T203000
DTEND;TZID=America/Chicago:20260208T233000
DTSTAMP:20260422T172410
CREATED:20251222T220636Z
LAST-MODIFIED:20251222T221719Z
UID:225021-1770496200-1770593400@twoshows.fun
SUMMARY:Shakira 7 y 8
DESCRIPTION:LOCALIDADES\n			\n				\n				\n				\n				\n				\n			\n			\n				\n				\n				\n				\n				\n				\n				\n				\n				\n				UBICACIONES\n			\n				\n				\n				\n				\n				\n			\n			\n				\n				\n				\n				\n			\n				\n				\n			\n				\n				\n				\n				\n				\n				\n				\n				\n				\n				\n				\n				\n				\n				COMPRAR
URL:https://twoshows.fun/index.php/event/shakira26-2/
LOCATION:Estadio Nacional Jorge «El Mágico» González\, 49 Av Sur\, San Salvador\, San Salvador\, San Salvador\, El Salvador
ATTACH;FMTTYPE=image/jpeg:https://twoshows.fun/wp-content/uploads/2025/12/shakira_nfechas.jpg
END:VEVENT
BEGIN:VEVENT
DTSTART;TZID=America/Chicago:20260212T203000
DTEND;TZID=America/Chicago:20260215T233000
DTSTAMP:20260422T172410
CREATED:20251216T200847Z
LAST-MODIFIED:20251217T041736Z
UID:225009-1770928200-1771198200@twoshows.fun
SUMMARY:Shakira
DESCRIPTION:LOCALIDADES\n			\n				\n				\n				\n				\n				\n			\n			\n				\n				\n				\n				\n				\n				\n				\n				\n				\n				UBICACIONES\n			\n				\n				\n				\n				\n				\n			\n			\n				\n				\n				\n				\n			\n				\n				\n			\n				\n				\n				\n				\n				\n				\n				\n				\n				\n				\n				\n				\n				\n				COMPRAR
URL:https://twoshows.fun/index.php/event/shakira26/
LOCATION:Estadio Nacional Jorge «El Mágico» González\, 49 Av Sur\, San Salvador\, San Salvador\, San Salvador\, El Salvador
ATTACH;FMTTYPE=image/jpeg:https://twoshows.fun/wp-content/uploads/2025/12/shakira1_26.jpg
END:VEVENT
BEGIN:VEVENT
DTSTART;TZID=America/Chicago:20260227T203000
DTEND;TZID=America/Chicago:20260227T233000
DTSTAMP:20260422T172410
CREATED:20260114T024336Z
LAST-MODIFIED:20260115T212439Z
UID:225028-1772224200-1772235000@twoshows.fun
SUMMARY:María León & Yahir
DESCRIPTION:LOCALIDADES\n			\n				\n				\n				\n				\n				\n			\n			\n				\n				\n				\n				\n				\n				\n				\n				\n				\n				UBICACIONES\n			\n				\n				\n				\n				\n				\n			\n			\n				\n				\n				\n				\n			\n				\n				\n			\n				\n				\n				\n				\n				\n				\n				\n				\n				\n				\n				\n				\n				\n				COMPRAR
URL:https://twoshows.fun/index.php/event/mlyahir26/
LOCATION:Teatro Presidente\, Avenida De La Revolucion &\, Calle Circunvalacion\, San Salvador\, San Salvador
ATTACH;FMTTYPE=image/jpeg:https://twoshows.fun/wp-content/uploads/2026/01/yahir1.jpg
END:VEVENT
BEGIN:VEVENT
DTSTART;TZID=America/Chicago:20260303T203000
DTEND;TZID=America/Chicago:20260303T233000
DTSTAMP:20260422T172410
CREATED:20260205T191248Z
LAST-MODIFIED:20260205T191750Z
UID:225054-1772569800-1772580600@twoshows.fun
SUMMARY:Air Supply
DESCRIPTION:LOCALIDADES\n			\n				\n				\n				\n				\n				\n			\n			\n				\n				\n				\n				\n				\n				\n				\n				\n				\n				UBICACIONES\n			\n				\n				\n				\n				\n				\n			\n			\n				\n				\n				\n				\n			\n				\n				\n			\n				\n				\n				\n				\n				\n				\n				\n				\n				\n				\n				\n				\n				\n				COMPRAR
URL:https://twoshows.fun/index.php/event/airsupply26/
LOCATION:Complejo Cuscatlán\, MQJH+JJV\, Blvr. Los Proceres\, San Salvador\, San Salvador\, San Salvador
ATTACH;FMTTYPE=image/jpeg:https://twoshows.fun/wp-content/uploads/2026/02/Air-Supply-El-Salvador.jpg
END:VEVENT
BEGIN:VEVENT
DTSTART;TZID=America/Chicago:20260313T203000
DTEND;TZID=America/Chicago:20260313T233000
DTSTAMP:20260422T172410
CREATED:20260205T193018Z
LAST-MODIFIED:20260205T193451Z
UID:225074-1773433800-1773444600@twoshows.fun
SUMMARY:IL VOLO
DESCRIPTION:LOCALIDADES\n			\n				\n				\n				\n				\n				\n			\n			\n				\n				\n				\n				\n				\n				\n				\n				\n				\n				UBICACIONES\n			\n				\n				\n				\n				\n				\n			\n			\n				\n				\n				\n				\n			\n				\n				\n			\n				\n				\n				\n				\n				\n				\n				\n				\n				\n				\n				\n				\n				\n				COMPRAR
URL:https://twoshows.fun/index.php/event/ilvolo26-2/
LOCATION:Complejo Cuscatlán\, MQJH+JJV\, Blvr. Los Proceres\, San Salvador\, San Salvador\, San Salvador
ATTACH;FMTTYPE=image/jpeg:https://twoshows.fun/wp-content/uploads/2026/02/IL-VOLO-EL-SALVADOR.jpg
END:VEVENT
BEGIN:VEVENT
DTSTART;TZID=America/Chicago:20260523T203000
DTEND;TZID=America/Chicago:20260523T233000
DTSTAMP:20260422T172410
CREATED:20260302T040518Z
LAST-MODIFIED:20260306T030252Z
UID:225112-1779568200-1779579000@twoshows.fun
SUMMARY:Alejandro Fernández
DESCRIPTION:LOCALIDADES\n			\n				\n				\n				\n				\n				\n			\n			\n				\n				\n				\n				\n				\n				\n				\n				\n				\n				PRECIOS\n			\n				\n				\n				\n				\n				\n			\n			\n				\n				\n				\n				\n			\n				\n				\n				\n				\n				\n				\n				COMPRAR
URL:https://twoshows.fun/index.php/event/alejandrof26/
LOCATION:Estadio Cuscatlán\, Calle Antigua a Huizucar\, San Salvador\, El Salvador
ATTACH;FMTTYPE=image/jpeg:https://twoshows.fun/wp-content/uploads/2026/03/alejandro_fernandez_26.jpg
END:VEVENT
BEGIN:VEVENT
DTSTART;TZID=America/Chicago:20260529T203000
DTEND;TZID=America/Chicago:20260529T233000
DTSTAMP:20260422T172410
CREATED:20260402T151915Z
LAST-MODIFIED:20260415T191230Z
UID:225142-1780086600-1780097400@twoshows.fun
SUMMARY:Adal Ramones
DESCRIPTION:LOCALIDADES\n			\n				\n				\n				\n				\n				\n			\n			\n				\n				\n				\n				\n				\n				\n				\n				\n				\n				PRECIOS\n			\n				\n				\n				\n				\n				\n			\n			\n				\n				\n				\n				\n			\n				\n				\n				\n				\n				\n				\n				COMPRAR
URL:https://twoshows.fun/index.php/event/aramones26/
LOCATION:Teatro Presidente\, Avenida De La Revolucion &\, Calle Circunvalacion\, San Salvador\, San Salvador
ATTACH;FMTTYPE=image/jpeg:https://twoshows.fun/wp-content/uploads/2026/04/adal_ramones_el_salvador.jpg
END:VEVENT
BEGIN:VEVENT
DTSTART;TZID=America/Chicago:20261005T203000
DTEND;TZID=America/Chicago:20261005T233000
DTSTAMP:20260422T172410
CREATED:20260205T192350Z
LAST-MODIFIED:20260205T192754Z
UID:225063-1791232200-1791243000@twoshows.fun
SUMMARY:Iron Maiden
DESCRIPTION:LOCALIDADES\n			\n				\n				\n				\n				\n				\n			\n			\n				\n				\n				\n				\n				\n				\n				\n				\n				\n				UBICACIONES\n			\n				\n				\n				\n				\n				\n			\n			\n				\n				\n				\n				\n			\n				\n				\n			\n				\n				\n				\n				\n				\n				\n				\n				\n				\n				\n				\n				\n				\n				COMPRAR
URL:https://twoshows.fun/index.php/event/ironmaiden26/
LOCATION:Estadio Nacional Jorge «El Mágico» González\, 49 Av Sur\, San Salvador\, San Salvador\, San Salvador\, El Salvador
ATTACH;FMTTYPE=image/jpeg:https://twoshows.fun/wp-content/uploads/2025/12/ironmaiden.jpg
END:VEVENT
BEGIN:VEVENT
DTSTART;TZID=America/Chicago:20261016T203000
DTEND;TZID=America/Chicago:20261016T233000
DTSTAMP:20260422T172410
CREATED:20260221T152503Z
LAST-MODIFIED:20260302T042111Z
UID:225091-1792182600-1792193400@twoshows.fun
SUMMARY:Humbe
DESCRIPTION:LOCALIDADES\n			\n				\n				\n				\n				\n				\n			\n			\n				\n				\n				\n				\n				\n				\n				\n				\n				\n				PRECIOS\n			\n				\n				\n				\n				\n				\n			\n			\n				\n				\n				\n				\n			\n				\n				\n			\n				\n				\n				\n				\n				\n				\n				\n				\n				\n				\n				\n				\n				\n				COMPRAR
URL:https://twoshows.fun/index.php/event/humbe26/
LOCATION:Complejo Cuscatlán\, MQJH+JJV\, Blvr. Los Proceres\, San Salvador\, San Salvador\, San Salvador
ATTACH;FMTTYPE=image/jpeg:https://twoshows.fun/wp-content/uploads/2026/02/humbe-El-Salvador-2026.jpg
END:VEVENT
BEGIN:VEVENT
DTSTART;TZID=America/Chicago:20261031T203000
DTEND;TZID=America/Chicago:20261031T233000
DTSTAMP:20260422T172410
CREATED:20260415T200204Z
LAST-MODIFIED:20260415T200418Z
UID:225155-1793478600-1793489400@twoshows.fun
SUMMARY:Ricardo Arjona
DESCRIPTION:LOCALIDADES\n			\n				\n				\n				\n				\n				\n			\n			\n				\n				\n				\n				\n				\n				\n				\n				\n				\n				PRECIOS\n			\n				\n				\n				\n				\n				\n			\n			\n				\n				\n				\n				\n			\n				\n				\n			\n				\n				\n				\n				\n				\n				\n				\n				\n				\n				\n				\n				\n				\n				COMPRAR
URL:https://twoshows.fun/index.php/event/rarjona26/
LOCATION:Estadio Cuscatlán\, Calle Antigua a Huizucar\, San Salvador\, El Salvador
ATTACH;FMTTYPE=image/webp:https://twoshows.fun/wp-content/uploads/2026/04/ricardo_arjona_elsalvador_26.webp
END:VEVENT
END:VCALENDAR