BEGIN:VCALENDAR
VERSION:2.0
PRODID:-//Two Shows - ECPv6.0.11//NONSGML v1.0//EN
CALSCALE:GREGORIAN
METHOD:PUBLISH
X-ORIGINAL-URL:https://twoshows.fun
X-WR-CALDESC:Eventos para Two Shows
REFRESH-INTERVAL;VALUE=DURATION:PT1H
X-Robots-Tag:noindex
X-PUBLISHED-TTL:PT1H
BEGIN:VTIMEZONE
TZID:America/Chicago
BEGIN:DAYLIGHT
TZOFFSETFROM:-0600
TZOFFSETTO:-0500
TZNAME:CDT
DTSTART:20250309T080000
END:DAYLIGHT
BEGIN:STANDARD
TZOFFSETFROM:-0500
TZOFFSETTO:-0600
TZNAME:CST
DTSTART:20251102T070000
END:STANDARD
END:VTIMEZONE
BEGIN:VEVENT
DTSTART;TZID=America/Chicago:20250221T203000
DTEND;TZID=America/Chicago:20250221T233000
DTSTAMP:20260422T200736
CREATED:20250129T224621Z
LAST-MODIFIED:20250129T224925Z
UID:224918-1740169800-1740180600@twoshows.fun
SUMMARY:Grupo Frontera
DESCRIPTION:LOCALIDADES\n			\n				\n				\n				\n				\n				\n			\n			\n				\n				\n				\n				\n				\n				\n				\n				\n				\n				UBICACIONES\n			\n				\n				\n				\n				\n				\n			\n			\n				\n				\n				\n				\n			\n				\n				\n			\n				\n				\n				\n				\n				\n				\n				\n				\n				\n				\n				\n				\n				\n				COMPRAR
URL:https://twoshows.fun/index.php/event/grupofrontera25/
LOCATION:Estadio Cuscatlán\, Calle Antigua a Huizucar\, San Salvador\, El Salvador
ATTACH;FMTTYPE=image/jpeg:https://twoshows.fun/wp-content/uploads/2024/12/grupo_frontera25.jpg
END:VEVENT
END:VCALENDAR